BEGIN:VCALENDAR
VERSION:2.0
PRODID:-//HE-MANIA.COM - ECPv6.15.20//NONSGML v1.0//EN
CALSCALE:GREGORIAN
METHOD:PUBLISH
X-WR-CALNAME:HE-MANIA.COM
X-ORIGINAL-URL:https://he-mania.com
X-WR-CALDESC:Events for HE-MANIA.COM
REFRESH-INTERVAL;VALUE=DURATION:PT1H
X-Robots-Tag:noindex
X-PUBLISHED-TTL:PT1H
BEGIN:VTIMEZONE
TZID:America/New_York
BEGIN:DAYLIGHT
TZOFFSETFROM:-0500
TZOFFSETTO:-0400
TZNAME:EDT
DTSTART:20250309T070000
END:DAYLIGHT
BEGIN:STANDARD
TZOFFSETFROM:-0400
TZOFFSETTO:-0500
TZNAME:EST
DTSTART:20251102T060000
END:STANDARD
BEGIN:DAYLIGHT
TZOFFSETFROM:-0500
TZOFFSETTO:-0400
TZNAME:EDT
DTSTART:20260308T070000
END:DAYLIGHT
BEGIN:STANDARD
TZOFFSETFROM:-0400
TZOFFSETTO:-0500
TZNAME:EST
DTSTART:20261101T060000
END:STANDARD
BEGIN:DAYLIGHT
TZOFFSETFROM:-0500
TZOFFSETTO:-0400
TZNAME:EDT
DTSTART:20270314T070000
END:DAYLIGHT
BEGIN:STANDARD
TZOFFSETFROM:-0400
TZOFFSETTO:-0500
TZNAME:EST
DTSTART:20271107T060000
END:STANDARD
END:VTIMEZONE
BEGIN:VEVENT
DTSTART;VALUE=DATE:20260502
DTEND;VALUE=DATE:20260503
DTSTAMP:20260423T050534
CREATED:20260102T230919Z
LAST-MODIFIED:20260102T230919Z
UID:28709-1777680000-1777766399@he-mania.com
SUMMARY:“He-Man and the Masters of the Universe – Dungeons & Dragons” Free Comic is out today!
DESCRIPTION:“He-Man and the Masters of the Universe – Dungeons & Dragons” FREE COMIC will be offered on Comics Giveaway Day this May 2nd\, 2026! \nCLICK for DETAILS
URL:https://he-mania.com/event/he-man-and-the-masters-of-the-universe-dungeons-dragons-free-comic-is-out-today/
ATTACH;FMTTYPE=image/jpeg:https://he-mania.com/wp-content/uploads/2025/12/IMG_20251217_135309.jpg
END:VEVENT
BEGIN:VEVENT
DTSTART;VALUE=DATE:20260505
DTEND;VALUE=DATE:20260506
DTSTAMP:20260423T050534
CREATED:20260225T223126Z
LAST-MODIFIED:20260225T223625Z
UID:32016-1777939200-1778025599@he-mania.com
SUMMARY:Masters of the Universe: The Junior Novel is released
DESCRIPTION:Masters of the Universe: The Junior Novel – A junior novel retelling the story of the film for younger readers by Steve Behling (Publishing May 5\, 2026)
URL:https://he-mania.com/event/masters-of-the-universe-the-junior-novel-releases-today/
END:VEVENT
BEGIN:VEVENT
DTSTART;VALUE=DATE:20260505
DTEND;VALUE=DATE:20260506
DTSTAMP:20260423T050534
CREATED:20260225T223521Z
LAST-MODIFIED:20260225T223521Z
UID:32019-1777939200-1778025599@he-mania.com
SUMMARY:Masters of the Universe: The Power Within storybook is released
DESCRIPTION:Masters of the Universe: The Power Within – A storybook and early reader based on the film\, respectively\, written by Eric Geron (Publishing May 5\, 2026)
URL:https://he-mania.com/event/masters-of-the-universe-the-power-within-storybook-is-released/
ATTACH;FMTTYPE=image/jpeg:https://he-mania.com/wp-content/uploads/2026/02/motu-the-power-within-storybook-1771508629780-1.jpg
END:VEVENT
BEGIN:VEVENT
DTSTART;VALUE=DATE:20260505
DTEND;VALUE=DATE:20260506
DTSTAMP:20260423T050534
CREATED:20260225T223829Z
LAST-MODIFIED:20260225T230853Z
UID:32022-1777939200-1778025599@he-mania.com
SUMMARY:Masters of the Universe: I Am He-Man Storybook is released
DESCRIPTION:Masters of the Universe: I Am He-Man! – A storybook and early reader based on the film\, respectively\, written by Eric Geron (Publishing May 5\, 2026)
URL:https://he-mania.com/event/masters-of-the-universe-i-am-he-man-storybook-is-released/
ATTACH;FMTTYPE=image/jpeg:https://he-mania.com/wp-content/uploads/2026/02/motu-i-am-he-man-1771508629779-1.jpg
END:VEVENT
BEGIN:VEVENT
DTSTART;VALUE=DATE:20260505
DTEND;VALUE=DATE:20260506
DTSTAMP:20260423T050534
CREATED:20260225T230339Z
LAST-MODIFIED:20260225T230339Z
UID:32032-1777939200-1778025599@he-mania.com
SUMMARY:Masters of the Universe Retro Power! Coloring Book is released
DESCRIPTION:Retro Power! Coloring Book – An adult coloring book featuring original 1980’s coloring book art for He-Man and She-Ra (Publishing May 5\, 2026)
URL:https://he-mania.com/event/masters-of-the-universe-retro-power-coloring-book-is-released/
ATTACH;FMTTYPE=image/jpeg:https://he-mania.com/wp-content/uploads/2026/02/motu-retro-power-1771508629780.jpg
END:VEVENT
BEGIN:VEVENT
DTSTART;VALUE=DATE:20260505
DTEND;VALUE=DATE:20260506
DTSTAMP:20260423T050534
CREATED:20260225T230509Z
LAST-MODIFIED:20260225T230509Z
UID:32034-1777939200-1778025599@he-mania.com
SUMMARY:Skeletor Has No Friends picture book is released
DESCRIPTION:Skeletor Has No Friends– A humorous picture book where Skeletor learns that even evil villains need to be a little bit nice written by #1 New York Times bestselling author Robb Pearlman and illustrated by Andrew Kolb (Publishing May 5\, 2026)
URL:https://he-mania.com/event/skeletor-has-no-friends-picture-book-is-released/
ATTACH;FMTTYPE=image/jpeg:https://he-mania.com/wp-content/uploads/2026/02/motu-skeletor-has-no-friends-1771508629780.jpg
END:VEVENT
BEGIN:VEVENT
DTSTART;TZID=America/New_York:20260523T000000
DTEND;TZID=America/New_York:20260524T235900
DTSTAMP:20260423T050534
CREATED:20251108T091730Z
LAST-MODIFIED:20251108T091921Z
UID:25930-1779494400-1779667140@he-mania.com
SUMMARY:MOTUNIVERSE Convention Weekend
DESCRIPTION:The MOTUNIVERSE Convention begins at the “Torrance Marriott” in Redondo Beach in California. \nDetails: CLICK HERE
URL:https://he-mania.com/event/motuniverse-convention-weekend/
ATTACH;FMTTYPE=image/jpeg:https://he-mania.com/wp-content/uploads/2025/10/IMG_20251002_232316-scaled.jpg
END:VEVENT
END:VCALENDAR