BEGIN:VCALENDAR
VERSION:2.0
PRODID:-//HE-MANIA.COM - ECPv6.15.20//NONSGML v1.0//EN
CALSCALE:GREGORIAN
METHOD:PUBLISH
X-WR-CALNAME:HE-MANIA.COM
X-ORIGINAL-URL:https://he-mania.com
X-WR-CALDESC:Events for HE-MANIA.COM
REFRESH-INTERVAL;VALUE=DURATION:PT1H
X-Robots-Tag:noindex
X-PUBLISHED-TTL:PT1H
BEGIN:VTIMEZONE
TZID:America/New_York
BEGIN:DAYLIGHT
TZOFFSETFROM:-0500
TZOFFSETTO:-0400
TZNAME:EDT
DTSTART:20240310T070000
END:DAYLIGHT
BEGIN:STANDARD
TZOFFSETFROM:-0400
TZOFFSETTO:-0500
TZNAME:EST
DTSTART:20241103T060000
END:STANDARD
BEGIN:DAYLIGHT
TZOFFSETFROM:-0500
TZOFFSETTO:-0400
TZNAME:EDT
DTSTART:20250309T070000
END:DAYLIGHT
BEGIN:STANDARD
TZOFFSETFROM:-0400
TZOFFSETTO:-0500
TZNAME:EST
DTSTART:20251102T060000
END:STANDARD
BEGIN:DAYLIGHT
TZOFFSETFROM:-0500
TZOFFSETTO:-0400
TZNAME:EDT
DTSTART:20260308T070000
END:DAYLIGHT
BEGIN:STANDARD
TZOFFSETFROM:-0400
TZOFFSETTO:-0500
TZNAME:EST
DTSTART:20261101T060000
END:STANDARD
END:VTIMEZONE
BEGIN:VEVENT
DTSTART;VALUE=DATE:20251119
DTEND;VALUE=DATE:20251120
DTSTAMP:20260423T043324
CREATED:20251009T051422Z
LAST-MODIFIED:20251009T051951Z
UID:25062-1763510400-1763596799@he-mania.com
SUMMARY:MOTU The Sword of Flaws Comic #2 is Available
DESCRIPTION:Masters of the Universe ”THE SWORD OF FLAWS” Comic Issue #2 is out today (delayed from November 5th). \nClick for Details
URL:https://he-mania.com/event/motu-the-sword-of-flaws-comic-2-is-out-today/
ATTACH;FMTTYPE=image/jpeg:https://he-mania.com/wp-content/uploads/2025/08/IMG_20250808_081930.jpg
END:VEVENT
BEGIN:VEVENT
DTSTART;VALUE=DATE:20251118
DTEND;VALUE=DATE:20251120
DTSTAMP:20260423T043324
CREATED:20251110T211114Z
LAST-MODIFIED:20251110T211114Z
UID:26004-1763424000-1763596799@he-mania.com
SUMMARY:MOTU Origins Red Shadow Action Figure available to order
DESCRIPTION:Masters of the Universe: Origins “The Powers of Grayskull” RED SHADOW Figure is available to order Tuesday\, November 18th on the Mattel Creations website. \nDetails: CLICK HERE
URL:https://he-mania.com/event/motu-origins-red-shadow-action-figure-available-to-order/
ATTACH;FMTTYPE=image/jpeg:https://he-mania.com/wp-content/uploads/2025/11/IMG_20251110_145723.jpg
END:VEVENT
BEGIN:VEVENT
DTSTART;VALUE=DATE:20251115
DTEND;VALUE=DATE:20251116
DTSTAMP:20260423T043324
CREATED:20251022T162301Z
LAST-MODIFIED:20251022T162301Z
UID:25484-1763164800-1763251199@he-mania.com
SUMMARY:MOTUNIVERSE Kickstarter Campaign Ends
DESCRIPTION:The Kickstarter Crowdfunding Campaign ends on Saturday\, November 15 2025 2:01 PM EST.
URL:https://he-mania.com/event/motuniverse-kickstarter-campaign-ends/
ATTACH;FMTTYPE=image/jpeg:https://he-mania.com/wp-content/uploads/2025/10/IMG_20251006_103349.jpg
END:VEVENT
BEGIN:VEVENT
DTSTART;VALUE=DATE:20251111
DTEND;VALUE=DATE:20251112
DTSTAMP:20260423T043324
CREATED:20251108T090334Z
LAST-MODIFIED:20251108T090735Z
UID:25926-1762819200-1762905599@he-mania.com
SUMMARY:Turtles of Grayskull Trade Paperback is Available
DESCRIPTION:“TURTLES OF GRAYSKULL” Trade Paperback is out today (delayed from May 13th\, 2025). \nFor Details CLICK HERE
URL:https://he-mania.com/event/turtles-of-grayskull-trade-paperback-is-available/
ATTACH;FMTTYPE=image/jpeg:https://he-mania.com/wp-content/uploads/2024/08/IMG_20240827_110050.jpg
END:VEVENT
BEGIN:VEVENT
DTSTART;TZID=America/New_York:20251021T120000
DTEND;TZID=America/New_York:20251022T120000
DTSTAMP:20260423T043324
CREATED:20251009T035017Z
LAST-MODIFIED:20251009T040202Z
UID:25049-1761048000-1761134400@he-mania.com
SUMMARY:Origins Sting-Or Available to Order
DESCRIPTION:Masters of the Universe: Origins STING-OR action figure coming to Mattel Creations this October 21st \nClick for Details
URL:https://he-mania.com/event/order-date-for-masters-of-the-universe-origins-sting-or-action-figure/
LOCATION:Mattel Creations
ATTACH;FMTTYPE=image/jpeg:https://he-mania.com/wp-content/uploads/2025/10/IMG_20251008_084819.jpg
END:VEVENT
BEGIN:VEVENT
DTSTART;VALUE=DATE:20251015
DTEND;VALUE=DATE:20251016
DTSTAMP:20260423T043324
CREATED:20251009T045532Z
LAST-MODIFIED:20251009T045532Z
UID:25060-1760486400-1760572799@he-mania.com
SUMMARY:MOTUNIVERSE Kickstarter Launches
DESCRIPTION:This unforgettable Masters of the Universe Convention experience will be crowdfunded beginning October 15th offering everything from VIP Weekend Passes to Founder Recognition Sets\, to secure everything MOTUNIVERSE needs to bring in special guests and create the most immersive MOTU fan event ever!\nClick for Details
URL:https://he-mania.com/event/motuniverse-kickstarter-launches/
ATTACH;FMTTYPE=image/jpeg:https://he-mania.com/wp-content/uploads/2025/10/IMG_20251006_103349.jpg
END:VEVENT
END:VCALENDAR