BEGIN:VCALENDAR
VERSION:2.0
PRODID:-//HE-MANIA.COM - ECPv6.15.20//NONSGML v1.0//EN
CALSCALE:GREGORIAN
METHOD:PUBLISH
X-WR-CALNAME:HE-MANIA.COM
X-ORIGINAL-URL:https://he-mania.com
X-WR-CALDESC:Events for HE-MANIA.COM
REFRESH-INTERVAL;VALUE=DURATION:PT1H
X-Robots-Tag:noindex
X-PUBLISHED-TTL:PT1H
BEGIN:VTIMEZONE
TZID:America/New_York
BEGIN:DAYLIGHT
TZOFFSETFROM:-0500
TZOFFSETTO:-0400
TZNAME:EDT
DTSTART:20250309T070000
END:DAYLIGHT
BEGIN:STANDARD
TZOFFSETFROM:-0400
TZOFFSETTO:-0500
TZNAME:EST
DTSTART:20251102T060000
END:STANDARD
BEGIN:DAYLIGHT
TZOFFSETFROM:-0500
TZOFFSETTO:-0400
TZNAME:EDT
DTSTART:20260308T070000
END:DAYLIGHT
BEGIN:STANDARD
TZOFFSETFROM:-0400
TZOFFSETTO:-0500
TZNAME:EST
DTSTART:20261101T060000
END:STANDARD
BEGIN:DAYLIGHT
TZOFFSETFROM:-0500
TZOFFSETTO:-0400
TZNAME:EDT
DTSTART:20270314T070000
END:DAYLIGHT
BEGIN:STANDARD
TZOFFSETFROM:-0400
TZOFFSETTO:-0500
TZNAME:EST
DTSTART:20271107T060000
END:STANDARD
END:VTIMEZONE
BEGIN:VEVENT
DTSTART;VALUE=DATE:20260425
DTEND;VALUE=DATE:20260426
DTSTAMP:20260423T013327
CREATED:20260422T134451Z
LAST-MODIFIED:20260422T134554Z
UID:35688-1777075200-1777161599@he-mania.com
SUMMARY:Combat Ready Roboto Available to Order
DESCRIPTION:
URL:https://he-mania.com/event/combat-ready-roboto-available-to-order/
ATTACH;FMTTYPE=image/jpeg:https://he-mania.com/wp-content/uploads/2026/04/IMG_20260421_160135.jpg
END:VEVENT
BEGIN:VEVENT
DTSTART;VALUE=DATE:20260428
DTEND;VALUE=DATE:20260429
DTSTAMP:20260423T013327
CREATED:20251022T162902Z
LAST-MODIFIED:20251022T162902Z
UID:25486-1777334400-1777420799@he-mania.com
SUMMARY:Masters of the Universe Day
DESCRIPTION:Masters of the Universe Day is celebrated on April 28th\, originated when it was officially decreed in 1987 by Los Angeles\, California Mayor Tom Bradley.
URL:https://he-mania.com/event/masters-of-the-universe-day/
ATTACH;FMTTYPE=image/jpeg:https://he-mania.com/wp-content/uploads/2025/10/IMG_20251022_122816.jpg
END:VEVENT
BEGIN:VEVENT
DTSTART;VALUE=DATE:20260429
DTEND;VALUE=DATE:20260430
DTSTAMP:20260423T013327
CREATED:20260225T231749Z
LAST-MODIFIED:20260225T231749Z
UID:32039-1777420800-1777507199@he-mania.com
SUMMARY:Masters of the Universe Comic Issue #5 is released
DESCRIPTION:THE POWER SWORD\, a weapon able to access the power and wisdom of Grayskull\, was forged by the most powerful sorcerer in the Universe—HE-RO. It was ordained that the sword would be given to a great champion to protect the Realm in times of need. \nBut He-Ro grew concerned that all the power and knowledge in the universe might be too much for one man. So\, he created another blade—one which could be used only if a champion became a tyrant. But an accident corrupted the alternate blade\, transforming it into something evil\, tainting its metal violet. He-Ro had unintentionally created THE SWORD OF FLAWS. Realizing the horror of his creation\, He-Ro left Grayskull and spent years of his life crossing Eternia to find a place to hide the sword. And there\, the Sword of Flaws remained safely hidden. Until now . . . \nAfter the great battle at Heaven Piercer\, the Sword of Flaws has fallen into Skeletor’s hands. And with this mystic power\, Skeletor is a greater threat than ever before. Can He-Man and the Heroic Warriors stop him before he becomes MASTER OF THE UNIVERSE? \n\nThe Battle of Snake Mountain Part 1 of 4.\nOngoing series.\n\n\n\nCreators\n\nWriter: Tim Seeley\nArtist: Reilly Brown\nColorist: Jim Charalampidis\nLetterer: AndWorld Design\nCover artist: Reilly Brown\n\n\nGenres: Fantasy · Media Tie-In · Superhero\n\n\nPublication date: April 29\, 2026\nFormat: FC 32 pages; 6 5/8″ x 10 3/16″\nPrice: $4.99\nAge range: 14+\nUPC: 76156801401300511
URL:https://he-mania.com/event/masters-of-the-universe-comic-issue-5-is-released/
ATTACH;FMTTYPE=image/jpeg:https://he-mania.com/wp-content/uploads/2026/02/3018101.jpg
END:VEVENT
BEGIN:VEVENT
DTSTART;VALUE=DATE:20260502
DTEND;VALUE=DATE:20260503
DTSTAMP:20260423T013327
CREATED:20260102T230919Z
LAST-MODIFIED:20260102T230919Z
UID:28709-1777680000-1777766399@he-mania.com
SUMMARY:“He-Man and the Masters of the Universe – Dungeons & Dragons” Free Comic is out today!
DESCRIPTION:“He-Man and the Masters of the Universe – Dungeons & Dragons” FREE COMIC will be offered on Comics Giveaway Day this May 2nd\, 2026! \nCLICK for DETAILS
URL:https://he-mania.com/event/he-man-and-the-masters-of-the-universe-dungeons-dragons-free-comic-is-out-today/
ATTACH;FMTTYPE=image/jpeg:https://he-mania.com/wp-content/uploads/2025/12/IMG_20251217_135309.jpg
END:VEVENT
BEGIN:VEVENT
DTSTART;VALUE=DATE:20260505
DTEND;VALUE=DATE:20260506
DTSTAMP:20260423T013327
CREATED:20260225T223126Z
LAST-MODIFIED:20260225T223625Z
UID:32016-1777939200-1778025599@he-mania.com
SUMMARY:Masters of the Universe: The Junior Novel is released
DESCRIPTION:Masters of the Universe: The Junior Novel – A junior novel retelling the story of the film for younger readers by Steve Behling (Publishing May 5\, 2026)
URL:https://he-mania.com/event/masters-of-the-universe-the-junior-novel-releases-today/
END:VEVENT
BEGIN:VEVENT
DTSTART;VALUE=DATE:20260505
DTEND;VALUE=DATE:20260506
DTSTAMP:20260423T013327
CREATED:20260225T223521Z
LAST-MODIFIED:20260225T223521Z
UID:32019-1777939200-1778025599@he-mania.com
SUMMARY:Masters of the Universe: The Power Within storybook is released
DESCRIPTION:Masters of the Universe: The Power Within – A storybook and early reader based on the film\, respectively\, written by Eric Geron (Publishing May 5\, 2026)
URL:https://he-mania.com/event/masters-of-the-universe-the-power-within-storybook-is-released/
ATTACH;FMTTYPE=image/jpeg:https://he-mania.com/wp-content/uploads/2026/02/motu-the-power-within-storybook-1771508629780-1.jpg
END:VEVENT
BEGIN:VEVENT
DTSTART;VALUE=DATE:20260505
DTEND;VALUE=DATE:20260506
DTSTAMP:20260423T013327
CREATED:20260225T223829Z
LAST-MODIFIED:20260225T230853Z
UID:32022-1777939200-1778025599@he-mania.com
SUMMARY:Masters of the Universe: I Am He-Man Storybook is released
DESCRIPTION:Masters of the Universe: I Am He-Man! – A storybook and early reader based on the film\, respectively\, written by Eric Geron (Publishing May 5\, 2026)
URL:https://he-mania.com/event/masters-of-the-universe-i-am-he-man-storybook-is-released/
ATTACH;FMTTYPE=image/jpeg:https://he-mania.com/wp-content/uploads/2026/02/motu-i-am-he-man-1771508629779-1.jpg
END:VEVENT
BEGIN:VEVENT
DTSTART;VALUE=DATE:20260505
DTEND;VALUE=DATE:20260506
DTSTAMP:20260423T013327
CREATED:20260225T230339Z
LAST-MODIFIED:20260225T230339Z
UID:32032-1777939200-1778025599@he-mania.com
SUMMARY:Masters of the Universe Retro Power! Coloring Book is released
DESCRIPTION:Retro Power! Coloring Book – An adult coloring book featuring original 1980’s coloring book art for He-Man and She-Ra (Publishing May 5\, 2026)
URL:https://he-mania.com/event/masters-of-the-universe-retro-power-coloring-book-is-released/
ATTACH;FMTTYPE=image/jpeg:https://he-mania.com/wp-content/uploads/2026/02/motu-retro-power-1771508629780.jpg
END:VEVENT
BEGIN:VEVENT
DTSTART;VALUE=DATE:20260505
DTEND;VALUE=DATE:20260506
DTSTAMP:20260423T013327
CREATED:20260225T230509Z
LAST-MODIFIED:20260225T230509Z
UID:32034-1777939200-1778025599@he-mania.com
SUMMARY:Skeletor Has No Friends picture book is released
DESCRIPTION:Skeletor Has No Friends– A humorous picture book where Skeletor learns that even evil villains need to be a little bit nice written by #1 New York Times bestselling author Robb Pearlman and illustrated by Andrew Kolb (Publishing May 5\, 2026)
URL:https://he-mania.com/event/skeletor-has-no-friends-picture-book-is-released/
ATTACH;FMTTYPE=image/jpeg:https://he-mania.com/wp-content/uploads/2026/02/motu-skeletor-has-no-friends-1771508629780.jpg
END:VEVENT
BEGIN:VEVENT
DTSTART;TZID=America/New_York:20260523T000000
DTEND;TZID=America/New_York:20260524T235900
DTSTAMP:20260423T013327
CREATED:20251108T091730Z
LAST-MODIFIED:20251108T091921Z
UID:25930-1779494400-1779667140@he-mania.com
SUMMARY:MOTUNIVERSE Convention Weekend
DESCRIPTION:The MOTUNIVERSE Convention begins at the “Torrance Marriott” in Redondo Beach in California. \nDetails: CLICK HERE
URL:https://he-mania.com/event/motuniverse-convention-weekend/
ATTACH;FMTTYPE=image/jpeg:https://he-mania.com/wp-content/uploads/2025/10/IMG_20251002_232316-scaled.jpg
END:VEVENT
BEGIN:VEVENT
DTSTART;VALUE=DATE:20260602
DTEND;VALUE=DATE:20260603
DTSTAMP:20260423T013327
CREATED:20260225T224009Z
LAST-MODIFIED:20260225T224009Z
UID:32024-1780358400-1780444799@he-mania.com
SUMMARY:Teela: Daughter of Eternos young adult novel is released
DESCRIPTION:Teela: Daughter of Eternos – An original young adult novel\, set in the film universe\, written by New York Times bestselling author Mackenzi Lee that expands the story of Teela\, Man-at-Arms and Evil-Lyn (Publishing June 2\, 2026)
URL:https://he-mania.com/event/teela-daughter-of-eternos-young-adult-novel-is-released/
ATTACH;FMTTYPE=image/jpeg:https://he-mania.com/wp-content/uploads/2026/02/motu-teela-daughter-of-eternia-1771508629780.jpg
END:VEVENT
BEGIN:VEVENT
DTSTART;VALUE=DATE:20260602
DTEND;VALUE=DATE:20260603
DTSTAMP:20260423T013327
CREATED:20260303T181050Z
LAST-MODIFIED:20260303T181050Z
UID:32406-1780358400-1780444799@he-mania.com
SUMMARY:Masters of the Universe: Revelation and Revolution Blu-ray Steelbook is released
DESCRIPTION:The re-lease of the “Masters of the Universe: Revelation and Revolution” Blu-Ray Steelbook is available today.
URL:https://he-mania.com/event/masters-of-the-universe-revelation-and-revolution-blu-ray-steelbook-is-released/
ATTACH;FMTTYPE=image/png:https://he-mania.com/wp-content/uploads/2026/03/IMG_20260303_112258.png
END:VEVENT
BEGIN:VEVENT
DTSTART;TZID=America/New_York:20260605T000000
DTEND;TZID=America/New_York:20260605T235900
DTSTAMP:20260423T013327
CREATED:20251017T215558Z
LAST-MODIFIED:20251017T231732Z
UID:25349-1780617600-1780703940@he-mania.com
SUMMARY:Masters of the Universe Movie Release Date
DESCRIPTION:The “Masters of the Universe” Movie from Amazon MGM and Mattel Studios releases worldwide in theaters. \nLearn More HERE
URL:https://he-mania.com/event/masters-of-the-universe-movie-release-date/
ATTACH;FMTTYPE=image/jpeg:https://he-mania.com/wp-content/uploads/2025/10/Masters_of_the_Universe_logo.jpeg
END:VEVENT
BEGIN:VEVENT
DTSTART;VALUE=DATE:20260605
DTEND;VALUE=DATE:20260606
DTSTAMP:20260423T013327
CREATED:20260401T193741Z
LAST-MODIFIED:20260401T193741Z
UID:34358-1780617600-1780703999@he-mania.com
SUMMARY:MASTERS OF THE UNIVERSE: LEGENDS UNITE Game is available
DESCRIPTION:MASTERS OF THE UNIVERSE: LEGENDS UNITE Cooperative Deck Building Game launches on Amazon Luna this June 5th
URL:https://he-mania.com/event/masters-of-the-universe-legends-unite-game-is-available/
ATTACH;FMTTYPE=image/jpeg:https://he-mania.com/wp-content/uploads/2026/04/Screenshot_20260401_020028.jpg
END:VEVENT
BEGIN:VEVENT
DTSTART;VALUE=DATE:20260610
DTEND;VALUE=DATE:20260611
DTSTAMP:20260423T013327
CREATED:20260225T225844Z
LAST-MODIFIED:20260225T225844Z
UID:32028-1781049600-1781135999@he-mania.com
SUMMARY:Masters of the Universe: The Wings of Fate Issue #1 is released
DESCRIPTION:Masters of the Universe: The Wings of Fate– A new four-issue comic series set in the film universe of Masters of the Universe\, from Dark Horse Comics. Written by Tim Sheridan\, illustrated by Will Sliney\, colored by Israel Silva\, and lettered by AndWorld Design (Publishing beginning June 10 through October 2026)
URL:https://he-mania.com/event/masters-of-the-universe-the-wings-of-fate-issue-1-is-released/
ATTACH;FMTTYPE=image/jpeg:https://he-mania.com/wp-content/uploads/2026/02/motu-wings-of-fate-dark-horse-1771508629780-1.jpg
END:VEVENT
BEGIN:VEVENT
DTSTART;VALUE=DATE:20260726
DTEND;VALUE=DATE:20260727
DTSTAMP:20260423T013327
CREATED:20260401T194758Z
LAST-MODIFIED:20260401T194758Z
UID:34361-1785024000-1785110399@he-mania.com
SUMMARY:”MASTERS OF THE UNIVERSE: THE WINGS OF FATE” Movie tie-in Comic Issue #2 is Available
DESCRIPTION:Official Cover and Synopsis for the ”MASTERS OF THE UNIVERSE: THE WINGS OF FATE” Movie tie-in Comic Issue #2 are revealed!
URL:https://he-mania.com/event/masters-of-the-universe-the-wings-of-fate-movie-tie-in-comic-issue-2-is-available/
ATTACH;FMTTYPE=image/jpeg:https://he-mania.com/wp-content/uploads/2026/03/IMG_20260321_114155.jpg
END:VEVENT
BEGIN:VEVENT
DTSTART;VALUE=DATE:20260731
DTEND;VALUE=DATE:20260801
DTSTAMP:20260423T013327
CREATED:20260418T034609Z
LAST-MODIFIED:20260418T034609Z
UID:35489-1785456000-1785542399@he-mania.com
SUMMARY:“MASTERS OF THE UNIVERSE” Movie Safta licensed BACKPACKS and PENCIL CASES are available
DESCRIPTION:
URL:https://he-mania.com/event/masters-of-the-universe-movie-safta-licensed-backpacks-and-pencil-cases-are-available/
ATTACH;FMTTYPE=image/jpeg:https://he-mania.com/wp-content/uploads/2026/04/IMG_20260415_083322.jpg
END:VEVENT
BEGIN:VEVENT
DTSTART;VALUE=DATE:20260805
DTEND;VALUE=DATE:20260806
DTSTAMP:20260423T013327
CREATED:20260422T134904Z
LAST-MODIFIED:20260422T134904Z
UID:35691-1785888000-1785974399@he-mania.com
SUMMARY:Masters of the Universe: Genesis Comic Issue #1 is Available Today
DESCRIPTION:
URL:https://he-mania.com/event/masters-of-the-universe-genesis-comic-issue-1-is-available-today/
ATTACH;FMTTYPE=image/jpeg:https://he-mania.com/wp-content/uploads/2026/04/IMG_20260421_210912.jpg
END:VEVENT
BEGIN:VEVENT
DTSTART;VALUE=DATE:20260831
DTEND;VALUE=DATE:20260901
DTSTAMP:20260423T013327
CREATED:20260302T154806Z
LAST-MODIFIED:20260418T034004Z
UID:32336-1788134400-1788220799@he-mania.com
SUMMARY:"He-Man and the Masters of the Universe: Dragon Pearl of Destruction" Video Game is released! ("Summer" Placeholder Date)
DESCRIPTION:We all will “Return to Eternia” on April 28th when the new “He-Man and the Masters of the Universe: Dragon Pearl of Destruction” video game comes to PS5\, Steam\, XBOX Series X/S and Nintendo Switch! \nDelayed from April 28th to “Summer”
URL:https://he-mania.com/event/he-man-and-the-masters-of-the-universe-dragon-pearl-of-destruction-video-game-is-available/
ATTACH;FMTTYPE=image/jpeg:https://he-mania.com/wp-content/uploads/2026/03/IMG_20260301_164445.jpg
END:VEVENT
BEGIN:VEVENT
DTSTART;VALUE=DATE:20260901
DTEND;VALUE=DATE:20260902
DTSTAMP:20260423T013327
CREATED:20260225T230716Z
LAST-MODIFIED:20260225T230716Z
UID:32036-1788220800-1788307199@he-mania.com
SUMMARY:Skeletor Ate My Homework (The Adventures of He-Man and Porter #1) is released
DESCRIPTION:Skeletor Ate My Homework(The Adventures of He-Man and Porter #1) – A laugh out loud original middle-grade book about a boy named Porter (from Fort Lauderdale\, Florida) who is transported to the world of Eternia written by #1 New York Times bestselling author Stephan Pastis and illustrated by Will Henry (Publishing September 1\, 2026)
URL:https://he-mania.com/event/skeletor-ate-my-homework-the-adventures-of-he-man-and-porter-1-is-released/
ATTACH;FMTTYPE=image/jpeg:https://he-mania.com/wp-content/uploads/2026/02/motu-the-adventures-of-he-man-and-porter-1771508629780.jpg
END:VEVENT
BEGIN:VEVENT
DTSTART;TZID=America/New_York:20260912T000000
DTEND;TZID=America/New_York:20260913T235900
DTSTAMP:20260423T013327
CREATED:20251108T092810Z
LAST-MODIFIED:20260422T135253Z
UID:25933-1789171200-1789343940@he-mania.com
SUMMARY:MOTUFest Convention Weekend
DESCRIPTION:MOTUFest Convention begins in Kentucky. \nDetails: CLICK HERE
URL:https://he-mania.com/event/motufest-convention-weekend/
ATTACH;FMTTYPE=image/jpeg:https://he-mania.com/wp-content/uploads/2025/10/IMG_20251018_150015.jpg
END:VEVENT
BEGIN:VEVENT
DTSTART;VALUE=DATE:20260922
DTEND;VALUE=DATE:20260923
DTSTAMP:20260423T013327
CREATED:20260225T224200Z
LAST-MODIFIED:20260225T224200Z
UID:32026-1790035200-1790121599@he-mania.com
SUMMARY:Masters of the Universe: The Art of the Film hardcover book is released
DESCRIPTION:Masters of the Universe: The Art of the Film – A coffee table book offering in-depth visual celebration of the cinematic world of the film (Publishing September 22\, 2026)
URL:https://he-mania.com/event/masters-of-the-universe-the-art-of-the-film-hardcover-book-is-released/
ATTACH;FMTTYPE=image/jpeg:https://he-mania.com/wp-content/uploads/2026/02/IMG_20260219_180902_678.jpg
END:VEVENT
BEGIN:VEVENT
DTSTART;VALUE=DATE:20261101
DTEND;VALUE=DATE:20261102
DTSTAMP:20260423T013327
CREATED:20260225T230145Z
LAST-MODIFIED:20260225T230145Z
UID:32030-1793491200-1793577599@he-mania.com
SUMMARY:Masters of the Universe: Legends of Eternia manga style graphic novel is released
DESCRIPTION:Masters of the Universe: Legends of Eternia – A manga-style graphic novel set in the film universe\, a first for the brand\, from TOKYOPOP and written by Amanda Deibert (Publishing November 1\, 2026)
URL:https://he-mania.com/event/masters-of-the-universe-legends-of-eternia-manga-style-graphic-novel-is-released/
END:VEVENT
BEGIN:VEVENT
DTSTART;VALUE=DATE:20261103
DTEND;VALUE=DATE:20261104
DTSTAMP:20260423T013327
CREATED:20260422T135052Z
LAST-MODIFIED:20260422T135052Z
UID:35693-1793664000-1793750399@he-mania.com
SUMMARY:Masters of the Universe: Revolution Library Edition Hardcover is Available Today
DESCRIPTION:
URL:https://he-mania.com/event/masters-of-the-universe-revolution-library-edition-hardcover-is-available-today/
ATTACH;FMTTYPE=image/jpeg:https://he-mania.com/wp-content/uploads/2026/04/IMG_20260422_010900.jpg
END:VEVENT
END:VCALENDAR