BEGIN:VCALENDAR
VERSION:2.0
PRODID:-//HE-MANIA.COM - ECPv6.15.20//NONSGML v1.0//EN
CALSCALE:GREGORIAN
METHOD:PUBLISH
X-ORIGINAL-URL:https://he-mania.com
X-WR-CALDESC:Events for HE-MANIA.COM
REFRESH-INTERVAL;VALUE=DURATION:PT1H
X-Robots-Tag:noindex
X-PUBLISHED-TTL:PT1H
BEGIN:VTIMEZONE
TZID:America/New_York
BEGIN:DAYLIGHT
TZOFFSETFROM:-0500
TZOFFSETTO:-0400
TZNAME:EDT
DTSTART:20250309T070000
END:DAYLIGHT
BEGIN:STANDARD
TZOFFSETFROM:-0400
TZOFFSETTO:-0500
TZNAME:EST
DTSTART:20251102T060000
END:STANDARD
BEGIN:DAYLIGHT
TZOFFSETFROM:-0500
TZOFFSETTO:-0400
TZNAME:EDT
DTSTART:20260308T070000
END:DAYLIGHT
BEGIN:STANDARD
TZOFFSETFROM:-0400
TZOFFSETTO:-0500
TZNAME:EST
DTSTART:20261101T060000
END:STANDARD
BEGIN:DAYLIGHT
TZOFFSETFROM:-0500
TZOFFSETTO:-0400
TZNAME:EDT
DTSTART:20270314T070000
END:DAYLIGHT
BEGIN:STANDARD
TZOFFSETFROM:-0400
TZOFFSETTO:-0500
TZNAME:EST
DTSTART:20271107T060000
END:STANDARD
END:VTIMEZONE
BEGIN:VEVENT
DTSTART;VALUE=DATE:20260901
DTEND;VALUE=DATE:20260902
DTSTAMP:20260423T195629
CREATED:20260225T230716Z
LAST-MODIFIED:20260225T230716Z
UID:32036-1788220800-1788307199@he-mania.com
SUMMARY:Skeletor Ate My Homework (The Adventures of He-Man and Porter #1) is released
DESCRIPTION:Skeletor Ate My Homework(The Adventures of He-Man and Porter #1) – A laugh out loud original middle-grade book about a boy named Porter (from Fort Lauderdale\, Florida) who is transported to the world of Eternia written by #1 New York Times bestselling author Stephan Pastis and illustrated by Will Henry (Publishing September 1\, 2026)
URL:https://he-mania.com/event/skeletor-ate-my-homework-the-adventures-of-he-man-and-porter-1-is-released/
ATTACH;FMTTYPE=image/jpeg:https://he-mania.com/wp-content/uploads/2026/02/motu-the-adventures-of-he-man-and-porter-1771508629780.jpg
END:VEVENT
END:VCALENDAR