BEGIN:VCALENDAR
VERSION:2.0
PRODID:-//HE-MANIA.COM - ECPv6.15.20//NONSGML v1.0//EN
CALSCALE:GREGORIAN
METHOD:PUBLISH
X-ORIGINAL-URL:https://he-mania.com
X-WR-CALDESC:Events for HE-MANIA.COM
REFRESH-INTERVAL;VALUE=DURATION:PT1H
X-Robots-Tag:noindex
X-PUBLISHED-TTL:PT1H
BEGIN:VTIMEZONE
TZID:America/New_York
BEGIN:DAYLIGHT
TZOFFSETFROM:-0500
TZOFFSETTO:-0400
TZNAME:EDT
DTSTART:20250309T070000
END:DAYLIGHT
BEGIN:STANDARD
TZOFFSETFROM:-0400
TZOFFSETTO:-0500
TZNAME:EST
DTSTART:20251102T060000
END:STANDARD
BEGIN:DAYLIGHT
TZOFFSETFROM:-0500
TZOFFSETTO:-0400
TZNAME:EDT
DTSTART:20260308T070000
END:DAYLIGHT
BEGIN:STANDARD
TZOFFSETFROM:-0400
TZOFFSETTO:-0500
TZNAME:EST
DTSTART:20261101T060000
END:STANDARD
BEGIN:DAYLIGHT
TZOFFSETFROM:-0500
TZOFFSETTO:-0400
TZNAME:EDT
DTSTART:20270314T070000
END:DAYLIGHT
BEGIN:STANDARD
TZOFFSETFROM:-0400
TZOFFSETTO:-0500
TZNAME:EST
DTSTART:20271107T060000
END:STANDARD
END:VTIMEZONE
BEGIN:VEVENT
DTSTART;VALUE=DATE:20260731
DTEND;VALUE=DATE:20260801
DTSTAMP:20260423T183557
CREATED:20260418T034609Z
LAST-MODIFIED:20260418T034609Z
UID:35489-1785456000-1785542399@he-mania.com
SUMMARY:“MASTERS OF THE UNIVERSE” Movie Safta licensed BACKPACKS and PENCIL CASES are available
DESCRIPTION:
URL:https://he-mania.com/event/masters-of-the-universe-movie-safta-licensed-backpacks-and-pencil-cases-are-available/
ATTACH;FMTTYPE=image/jpeg:https://he-mania.com/wp-content/uploads/2026/04/IMG_20260415_083322.jpg
END:VEVENT
END:VCALENDAR