BEGIN:VCALENDAR
VERSION:2.0
PRODID:-//HE-MANIA.COM - ECPv6.15.20//NONSGML v1.0//EN
CALSCALE:GREGORIAN
METHOD:PUBLISH
X-WR-CALNAME:HE-MANIA.COM
X-ORIGINAL-URL:https://he-mania.com
X-WR-CALDESC:Events for HE-MANIA.COM
REFRESH-INTERVAL;VALUE=DURATION:PT1H
X-Robots-Tag:noindex
X-PUBLISHED-TTL:PT1H
BEGIN:VTIMEZONE
TZID:America/New_York
BEGIN:DAYLIGHT
TZOFFSETFROM:-0500
TZOFFSETTO:-0400
TZNAME:EDT
DTSTART:20250309T070000
END:DAYLIGHT
BEGIN:STANDARD
TZOFFSETFROM:-0400
TZOFFSETTO:-0500
TZNAME:EST
DTSTART:20251102T060000
END:STANDARD
BEGIN:DAYLIGHT
TZOFFSETFROM:-0500
TZOFFSETTO:-0400
TZNAME:EDT
DTSTART:20260308T070000
END:DAYLIGHT
BEGIN:STANDARD
TZOFFSETFROM:-0400
TZOFFSETTO:-0500
TZNAME:EST
DTSTART:20261101T060000
END:STANDARD
BEGIN:DAYLIGHT
TZOFFSETFROM:-0500
TZOFFSETTO:-0400
TZNAME:EDT
DTSTART:20270314T070000
END:DAYLIGHT
BEGIN:STANDARD
TZOFFSETFROM:-0400
TZOFFSETTO:-0500
TZNAME:EST
DTSTART:20271107T060000
END:STANDARD
END:VTIMEZONE
BEGIN:VEVENT
DTSTART;VALUE=DATE:20260429
DTEND;VALUE=DATE:20260430
DTSTAMP:20260423T050524
CREATED:20260225T231749Z
LAST-MODIFIED:20260225T231749Z
UID:32039-1777420800-1777507199@he-mania.com
SUMMARY:Masters of the Universe Comic Issue #5 is released
DESCRIPTION:THE POWER SWORD\, a weapon able to access the power and wisdom of Grayskull\, was forged by the most powerful sorcerer in the Universe—HE-RO. It was ordained that the sword would be given to a great champion to protect the Realm in times of need. \nBut He-Ro grew concerned that all the power and knowledge in the universe might be too much for one man. So\, he created another blade—one which could be used only if a champion became a tyrant. But an accident corrupted the alternate blade\, transforming it into something evil\, tainting its metal violet. He-Ro had unintentionally created THE SWORD OF FLAWS. Realizing the horror of his creation\, He-Ro left Grayskull and spent years of his life crossing Eternia to find a place to hide the sword. And there\, the Sword of Flaws remained safely hidden. Until now . . . \nAfter the great battle at Heaven Piercer\, the Sword of Flaws has fallen into Skeletor’s hands. And with this mystic power\, Skeletor is a greater threat than ever before. Can He-Man and the Heroic Warriors stop him before he becomes MASTER OF THE UNIVERSE? \n\nThe Battle of Snake Mountain Part 1 of 4.\nOngoing series.\n\n\n\nCreators\n\nWriter: Tim Seeley\nArtist: Reilly Brown\nColorist: Jim Charalampidis\nLetterer: AndWorld Design\nCover artist: Reilly Brown\n\n\nGenres: Fantasy · Media Tie-In · Superhero\n\n\nPublication date: April 29\, 2026\nFormat: FC 32 pages; 6 5/8″ x 10 3/16″\nPrice: $4.99\nAge range: 14+\nUPC: 76156801401300511
URL:https://he-mania.com/event/masters-of-the-universe-comic-issue-5-is-released/
ATTACH;FMTTYPE=image/jpeg:https://he-mania.com/wp-content/uploads/2026/02/3018101.jpg
END:VEVENT
END:VCALENDAR