BEGIN:VCALENDAR
VERSION:2.0
PRODID:-//HE-MANIA.COM - ECPv6.15.20//NONSGML v1.0//EN
CALSCALE:GREGORIAN
METHOD:PUBLISH
X-WR-CALNAME:HE-MANIA.COM
X-ORIGINAL-URL:https://he-mania.com
X-WR-CALDESC:Events for HE-MANIA.COM
REFRESH-INTERVAL;VALUE=DURATION:PT1H
X-Robots-Tag:noindex
X-PUBLISHED-TTL:PT1H
BEGIN:VTIMEZONE
TZID:America/New_York
BEGIN:DAYLIGHT
TZOFFSETFROM:-0500
TZOFFSETTO:-0400
TZNAME:EDT
DTSTART:20250309T070000
END:DAYLIGHT
BEGIN:STANDARD
TZOFFSETFROM:-0400
TZOFFSETTO:-0500
TZNAME:EST
DTSTART:20251102T060000
END:STANDARD
BEGIN:DAYLIGHT
TZOFFSETFROM:-0500
TZOFFSETTO:-0400
TZNAME:EDT
DTSTART:20260308T070000
END:DAYLIGHT
BEGIN:STANDARD
TZOFFSETFROM:-0400
TZOFFSETTO:-0500
TZNAME:EST
DTSTART:20261101T060000
END:STANDARD
BEGIN:DAYLIGHT
TZOFFSETFROM:-0500
TZOFFSETTO:-0400
TZNAME:EDT
DTSTART:20270314T070000
END:DAYLIGHT
BEGIN:STANDARD
TZOFFSETFROM:-0400
TZOFFSETTO:-0500
TZNAME:EST
DTSTART:20271107T060000
END:STANDARD
END:VTIMEZONE
BEGIN:VEVENT
DTSTART;VALUE=DATE:20260114
DTEND;VALUE=DATE:20260115
DTSTAMP:20260423T200300
CREATED:20251024T155728Z
LAST-MODIFIED:20251202T171021Z
UID:25531-1768348800-1768435199@he-mania.com
SUMMARY:MOTU The Sword of Flaws Comic #3 is Available
DESCRIPTION:Masters of the Universe ”THE SWORD OF FLAWS” Comic Issue #3 is out today. \nCLICK for DETAILS \n(Delayed from original release date of December 10th.)
URL:https://he-mania.com/event/motu-sword-of-flaws-3-is-available/
ATTACH;FMTTYPE=image/jpeg:https://he-mania.com/wp-content/uploads/2025/08/IMG_20250822_164028.jpg
END:VEVENT
END:VCALENDAR