BEGIN:VCALENDAR
VERSION:2.0
PRODID:-//HE-MANIA.COM - ECPv6.15.20//NONSGML v1.0//EN
CALSCALE:GREGORIAN
METHOD:PUBLISH
X-ORIGINAL-URL:https://he-mania.com
X-WR-CALDESC:Events for HE-MANIA.COM
REFRESH-INTERVAL;VALUE=DURATION:PT1H
X-Robots-Tag:noindex
X-PUBLISHED-TTL:PT1H
BEGIN:VTIMEZONE
TZID:America/New_York
BEGIN:DAYLIGHT
TZOFFSETFROM:-0500
TZOFFSETTO:-0400
TZNAME:EDT
DTSTART:20240310T070000
END:DAYLIGHT
BEGIN:STANDARD
TZOFFSETFROM:-0400
TZOFFSETTO:-0500
TZNAME:EST
DTSTART:20241103T060000
END:STANDARD
BEGIN:DAYLIGHT
TZOFFSETFROM:-0500
TZOFFSETTO:-0400
TZNAME:EDT
DTSTART:20250309T070000
END:DAYLIGHT
BEGIN:STANDARD
TZOFFSETFROM:-0400
TZOFFSETTO:-0500
TZNAME:EST
DTSTART:20251102T060000
END:STANDARD
BEGIN:DAYLIGHT
TZOFFSETFROM:-0500
TZOFFSETTO:-0400
TZNAME:EDT
DTSTART:20260308T070000
END:DAYLIGHT
BEGIN:STANDARD
TZOFFSETFROM:-0400
TZOFFSETTO:-0500
TZNAME:EST
DTSTART:20261101T060000
END:STANDARD
END:VTIMEZONE
BEGIN:VEVENT
DTSTART;VALUE=DATE:20251115
DTEND;VALUE=DATE:20251116
DTSTAMP:20260423T230505
CREATED:20251022T162301Z
LAST-MODIFIED:20251022T162301Z
UID:25484-1763164800-1763251199@he-mania.com
SUMMARY:MOTUNIVERSE Kickstarter Campaign Ends
DESCRIPTION:The Kickstarter Crowdfunding Campaign ends on Saturday\, November 15 2025 2:01 PM EST.
URL:https://he-mania.com/event/motuniverse-kickstarter-campaign-ends/
ATTACH;FMTTYPE=image/jpeg:https://he-mania.com/wp-content/uploads/2025/10/IMG_20251006_103349.jpg
END:VEVENT
END:VCALENDAR